BEGIN:VCALENDAR
VERSION:2.0
PRODID:-//Date iCal//NONSGML kigkonsult.se iCalcreator 2.18//
METHOD:PUBLISH
X-WR-CALNAME;VALUE=TEXT:Cultura de Galicia
BEGIN:VTIMEZONE
TZID:Europe/Madrid
BEGIN:STANDARD
DTSTART:20261025T030000
TZOFFSETFROM:+0200
TZOFFSETTO:+0100
TZNAME:CET
END:STANDARD
BEGIN:DAYLIGHT
DTSTART:20270328T020000
TZOFFSETFROM:+0100
TZOFFSETTO:+0200
TZNAME:CEST
END:DAYLIGHT
END:VTIMEZONE
BEGIN:VEVENT
UID:calendar.125450.field_eve_fechahora.0@www.cultura.gal
DTSTAMP:20260425T202848Z
CREATED:20260423T125509Z
DESCRIPTION:Concerto e obradoiro destinado aos máis cativos no que iniciaré
 molos á lectura mediante os libros da editorial Kalandraka\, concretamente
  a serie ‘Do berce á lúa’\, contando a maioría deles e cantándoos xuntos.
 \n\n\nDuración: 30 minutos.\n\n\nDe 0 a 3 anos.\n\n\nInscrición previa\, p
 resencial ou chamando ao teléfono 886 120 445\, dende a o luns anterior á 
 actividade.\n\n\nEspectáculo -  Contacontos/Narración oral   \n \n https:/
 /www.cultura.gal/gl/evento/125450/13/154305
DTSTART;TZID=Europe/Madrid:20260507T173000
DTEND;TZID=Europe/Madrid:20260508T181500
LAST-MODIFIED:20260423T125509Z
LOCATION:Biblioteca Pública de Vigo Juan Compañel - Vigo   - Pontevedra
SUMMARY:Cantacontos Kalandraka. Tania Justo
URL;TYPE=URI:https://www.cultura.gal/gl/cantacontos-kalandraka-tania-justo
END:VEVENT
END:VCALENDAR
