BEGIN:VCALENDAR
VERSION:2.0
PRODID:-//Date iCal//NONSGML kigkonsult.se iCalcreator 2.18//
METHOD:PUBLISH
X-WR-CALNAME;VALUE=TEXT:Cultura de Galicia
BEGIN:VTIMEZONE
TZID:Europe/Madrid
BEGIN:STANDARD
DTSTART:20261025T030000
TZOFFSETFROM:+0200
TZOFFSETTO:+0100
TZNAME:CET
END:STANDARD
BEGIN:DAYLIGHT
DTSTART:20260329T020000
TZOFFSETFROM:+0100
TZOFFSETTO:+0200
RDATE:20270328T020000
TZNAME:CEST
END:DAYLIGHT
END:VTIMEZONE
BEGIN:VEVENT
UID:calendar.125408.field_eve_fechahora.0@www.cultura.gal
DTSTAMP:20260421T225149Z
CREATED:20260421T183616Z
DESCRIPTION:A campaña 2026 de Toponimízate. Falámosche dos nomes da túa ter
 ra chegará a 12 novos concellos. A acción\, que xa vai pola súa novena edi
 ción\, enmárcase nos proxectos Toponimia de Galicia e GeoArpad\, impulsado
 s ambos os dous desde a Xunta de Galicia\, e coordinarase desde a Real Aca
 demia Galega (RAG) en colaboración coa Secretaría Xeral da Lingua.\n\n  Xo
 rnada/Congreso   \n \n https://www.cultura.gal/gl/evento/125408/22/154258
DTSTART;TZID=Europe/Madrid:20260422T110000
DTEND;TZID=Europe/Madrid:20260422T110000
LAST-MODIFIED:20260421T184005Z
LOCATION:Multiúsos - Moraña   - Pontevedra
SUMMARY:Toponimízate 2026
URL;TYPE=URI:https://www.cultura.gal/gl/toponimizate-2026
END:VEVENT
END:VCALENDAR
