BEGIN:VCALENDAR
VERSION:2.0
PRODID:-//Date iCal//NONSGML kigkonsult.se iCalcreator 2.18//
METHOD:PUBLISH
X-WR-CALNAME;VALUE=TEXT:Cultura de Galicia
BEGIN:VTIMEZONE
TZID:Europe/Madrid
BEGIN:STANDARD
DTSTART:20261025T030000
TZOFFSETFROM:+0200
TZOFFSETTO:+0100
TZNAME:CET
END:STANDARD
BEGIN:DAYLIGHT
DTSTART:20270328T020000
TZOFFSETFROM:+0100
TZOFFSETTO:+0200
TZNAME:CEST
END:DAYLIGHT
END:VTIMEZONE
BEGIN:VEVENT
UID:calendar.125401.field_eve_fechahora.0@www.cultura.gal
DTSTAMP:20260420T212545Z
CREATED:20260420T141520Z
DESCRIPTION:CUARTETO SEIKILOS\n\n\nO Cuarteto Seikilos formouse en 2011 no 
 seo da Joven Orquesta Nacional de España (JONDE). Está integrado por Iván 
 Görnemann e Pablo Quintanilla (violíns)\, Adrián Vázquez (viola) e Lorenzo
  Meseguer (violoncello). Os catro músicos coincidiron no Real Conservatori
 o Superior de Música de Madrid\, e posteriormente completaron formación en
  prestixiosas institucións europeas como a Musikhochschule de Düsseldorf\,
  a Universität Mozarteum de Salzburgo\, a Hochschule de Leipzig e a Escuel
 a Superior de Música Reina Sofía. \n\n  Festival   \n \n https://www.cultu
 ra.gal/gl/evento/125401/26/154254
DTSTART;TZID=Europe/Madrid:20260517T190000
DTEND;TZID=Europe/Madrid:20260517T190000
LAST-MODIFIED:20260420T165456Z
LOCATION:Mosteiro de Oseira - San Cristovo de Cea   - Ourense
SUMMARY:XIX Festival internacional de música Pórtico do Paraíso
URL;TYPE=URI:https://www.cultura.gal/gl/xix-festival-internacional-musica-p
 ortico-paraiso-3
END:VEVENT
END:VCALENDAR
