BEGIN:VCALENDAR
VERSION:2.0
PRODID:-//Date iCal//NONSGML kigkonsult.se iCalcreator 2.18//
METHOD:PUBLISH
X-WR-CALNAME;VALUE=TEXT:Cultura de Galicia
BEGIN:VTIMEZONE
TZID:Europe/Madrid
BEGIN:STANDARD
DTSTART:20261025T030000
TZOFFSETFROM:+0200
TZOFFSETTO:+0100
TZNAME:CET
END:STANDARD
BEGIN:DAYLIGHT
DTSTART:20270328T020000
TZOFFSETFROM:+0100
TZOFFSETTO:+0200
TZNAME:CEST
END:DAYLIGHT
END:VTIMEZONE
BEGIN:VEVENT
UID:calendar.125398.field_eve_fechahora.0@www.cultura.gal
DTSTAMP:20260421T214729Z
CREATED:20260420T140253Z
DESCRIPTION:ÁLEX ALGUACIL\nDescrito como un pianista con “un despliegue son
 oro que cautiva al oyente” (Melómano)\, Álex Alguacil é enxalzado pola crí
 tica e prensa especializadas pola súa “madurez interpretativa” (Scherzo)\,
  o seu “fino sentido musical” (El País)\, á vez que destaca como un “músic
 o inteligente con madera de calidad” (La Vanguardia). \n\n  Festival   \n 
 \n https://www.cultura.gal/gl/evento/125398/26/154251
DTSTART;TZID=Europe/Madrid:20260514T200000
DTEND;TZID=Europe/Madrid:20260514T200000
LAST-MODIFIED:20260421T071158Z
LOCATION:Liceo de Ourense - Ourense   - Ourense
SUMMARY:XIX Festival internacional de música Pórtico do Paraíso
URL;TYPE=URI:https://www.cultura.gal/gl/xix-festival-internacional-musica-p
 ortico-paraiso-2
END:VEVENT
END:VCALENDAR
