BEGIN:VCALENDAR
VERSION:2.0
PRODID:-//Date iCal//NONSGML kigkonsult.se iCalcreator 2.18//
METHOD:PUBLISH
X-WR-CALNAME;VALUE=TEXT:Cultura de Galicia
BEGIN:VTIMEZONE
TZID:Europe/Madrid
BEGIN:STANDARD
DTSTART:20261025T030000
TZOFFSETFROM:+0200
TZOFFSETTO:+0100
TZNAME:CET
END:STANDARD
BEGIN:DAYLIGHT
DTSTART:20270328T020000
TZOFFSETFROM:+0100
TZOFFSETTO:+0200
TZNAME:CEST
END:DAYLIGHT
END:VTIMEZONE
BEGIN:VEVENT
UID:calendar.125397.field_eve_fechahora.0@www.cultura.gal
DTSTAMP:20260421T202040Z
CREATED:20260420T123951Z
DESCRIPTION:A presenza da arpa no cine prodúcese case desde o seu nacemento
 . Nesta peculiar charla\, pintura\, literatura\, cine e música mestúranse 
 tendo sempre a arpa como denominador común e fío condutor. Veremos e anali
 zaremos escenas en que a presenza da arpa forma parte da linguaxe cinemato
 gráfica\, escenas en que mesmo a presenza deste instrumento condiciona a p
 lanificación e posta en escena. \n\n  Festival   \n \n https://www.cultura
 .gal/gl/evento/125397/26/154250
DTSTART;TZID=Europe/Madrid:20260512T200000
DTEND;TZID=Europe/Madrid:20260512T200000
LAST-MODIFIED:20260421T070741Z
LOCATION:Casa da Cultura\, rúa Concello\, 11 - Ourense   - Ourense
SUMMARY:XIX Festival internacional de música  Pórtico do Paraíso
URL;TYPE=URI:https://www.cultura.gal/gl/xix-festival-internacional-musica-p
 ortico-paraiso-1
END:VEVENT
END:VCALENDAR
