BEGIN:VCALENDAR
VERSION:2.0
PRODID:-//Date iCal//NONSGML kigkonsult.se iCalcreator 2.18//
METHOD:PUBLISH
X-WR-CALNAME;VALUE=TEXT:Cultura de Galicia
BEGIN:VTIMEZONE
TZID:Europe/Madrid
BEGIN:STANDARD
DTSTART:20261025T030000
TZOFFSETFROM:+0200
TZOFFSETTO:+0100
TZNAME:CET
END:STANDARD
BEGIN:DAYLIGHT
DTSTART:20270328T020000
TZOFFSETFROM:+0100
TZOFFSETTO:+0200
TZNAME:CEST
END:DAYLIGHT
END:VTIMEZONE
BEGIN:VEVENT
UID:calendar.125396.field_eve_fechahora.0@www.cultura.gal
DTSTAMP:20260421T190738Z
CREATED:20260420T121529Z
DESCRIPTION:MARIVÍ BLASCO\nMariví Blasco é unha soprano valenciana especial
 izada en música antiga. Comeza os estudos musicais na Unión Musical de Yát
 ova\, tocando o óboe\, aos sete anos. Así mesmo estuda piano e canto no co
 nservatorio José Iturbi da devandita cidade\, ao tempo que obtén a licenci
 atura de psicoloxía pola Universitat de València. Entre os seus mestres\, 
 destacan Anatoli Goussev\, Daniel Muñoz e Ryan Borges. \n\n  Festival   \n
  \n https://www.cultura.gal/gl/evento/125396/26/154249
DTSTART;TZID=Europe/Madrid:20260510T190000
DTEND;TZID=Europe/Madrid:20260510T190000
LAST-MODIFIED:20260421T070630Z
LOCATION:Pazo de Vilamarín - Vilamarín   - Ourense
SUMMARY:XIX Festival internacional de música  Pórtico do Paraíso
URL;TYPE=URI:https://www.cultura.gal/gl/xix-festival-internacional-musica-p
 ortico-paraiso-0
END:VEVENT
END:VCALENDAR
