BEGIN:VCALENDAR
VERSION:2.0
PRODID:-//Date iCal//NONSGML kigkonsult.se iCalcreator 2.18//
METHOD:PUBLISH
X-WR-CALNAME;VALUE=TEXT:Cultura de Galicia
BEGIN:VTIMEZONE
TZID:Europe/Madrid
BEGIN:STANDARD
DTSTART:20261025T030000
TZOFFSETFROM:+0200
TZOFFSETTO:+0100
TZNAME:CET
END:STANDARD
BEGIN:DAYLIGHT
DTSTART:20270328T020000
TZOFFSETFROM:+0100
TZOFFSETTO:+0200
TZNAME:CEST
END:DAYLIGHT
END:VTIMEZONE
BEGIN:VEVENT
UID:calendar.125393.field_eve_fechahora.0@www.cultura.gal
DTSTAMP:20260421T202131Z
CREATED:20260420T084612Z
DESCRIPTION:VANDALIA\n\n\nRocío de Frutos\, soprano\nGabriel Díaz\, alto\nV
 íctor Sordo\, tenor\nSimón Millán\, baixo\n\n  Festival   \n \n https://ww
 w.cultura.gal/gl/evento/125393/26/154248
DTSTART;TZID=Europe/Madrid:20260508T203000
DTEND;TZID=Europe/Madrid:20260508T203000
LAST-MODIFIED:20260421T071341Z
LOCATION:Igrexa de Santiago das Caldas - Ourense   - Ourense
SUMMARY:XIX Festival internacional de música  Pórtico do Paraíso
URL;TYPE=URI:https://www.cultura.gal/gl/xix-festival-internacional-musica-p
 ortico-paraiso
END:VEVENT
END:VCALENDAR
