BEGIN:VCALENDAR
VERSION:2.0
PRODID:-//Date iCal//NONSGML kigkonsult.se iCalcreator 2.18//
METHOD:PUBLISH
X-WR-CALNAME;VALUE=TEXT:Cultura de Galicia
BEGIN:VTIMEZONE
TZID:Europe/Madrid
BEGIN:STANDARD
DTSTART:20261025T030000
TZOFFSETFROM:+0200
TZOFFSETTO:+0100
TZNAME:CET
END:STANDARD
BEGIN:DAYLIGHT
DTSTART:20270328T020000
TZOFFSETFROM:+0100
TZOFFSETTO:+0200
TZNAME:CEST
END:DAYLIGHT
END:VTIMEZONE
BEGIN:VEVENT
UID:calendar.125373.field_eve_fechahora.0@www.cultura.gal
DTSTAMP:20260423T181628Z
CREATED:20260417T131102Z
DESCRIPTION:Un espectáculo visual baseado na idea do mundo ao revés. Non ha
 i nin principio nin final\, unha sucesión de diferentes efectos máxicos qu
 e farán voar a nosa imaxinación. \n\n\nUnha formulación que promete 'facer
  realidade os soños e transporta ao público a un mundo onde o imposible po
 de pasar'.\n\n\nPara nenos/as a partir de 4 anos (Familiar)\n\n\nDuración:
  45 minutos\n\n\nHora: 12:00 h.\n\n\nSalón de actos (ata completar capacid
 ade)\n\n\nEspectáculo -  Maxia   \n \n https://www.cultura.gal/gl/evento/1
 25373/13/154241
DTSTART;TZID=Europe/Madrid:20260530T120000
DTEND;TZID=Europe/Madrid:20260530T120000
LAST-MODIFIED:20260417T131341Z
LOCATION:Biblioteca Pública de Lugo - Lugo   - Lugo
SUMMARY:Un mundo ao revés
URL;TYPE=URI:https://www.cultura.gal/gl/mundo-reves-8
END:VEVENT
END:VCALENDAR
