BEGIN:VCALENDAR
VERSION:2.0
PRODID:-//Date iCal//NONSGML kigkonsult.se iCalcreator 2.18//
METHOD:PUBLISH
X-WR-CALNAME;VALUE=TEXT:Cultura de Galicia
BEGIN:VTIMEZONE
TZID:Europe/Madrid
BEGIN:STANDARD
DTSTART:20261025T030000
TZOFFSETFROM:+0200
TZOFFSETTO:+0100
TZNAME:CET
END:STANDARD
BEGIN:DAYLIGHT
DTSTART:20260329T020000
TZOFFSETFROM:+0100
TZOFFSETTO:+0200
RDATE:20270328T020000
TZNAME:CEST
END:DAYLIGHT
END:VTIMEZONE
BEGIN:VEVENT
UID:calendar.125360.field_eve_fechahora.0@www.cultura.gal
DTSTAMP:20260423T060312Z
CREATED:20260417T080444Z
DESCRIPTION:Con motivo da celebración do Día do Libro\, desde a Biblioteca 
 do Museo de Belas Artes da Coruña organízase unha visita guiada pola sala 
 de lectura.\n\n\nA biblioteca\, especializada en arte\, inclúe obras de re
 ferencia\, manuais e catálogos de arte\, publicacións periódicas nacionais
  e internacionais\, catálogos de poxas e materiais especiais. Na visita ex
 plicarase a historia e evolución da biblioteca e das súas coleccións e os 
 seus servizos.\n\n  Visita guiada/Roteiro   \n \n https://www.cultura.gal/
 gl/evento/125360/69/154231
DTSTART;TZID=Europe/Madrid:20260423T180000
DTEND;TZID=Europe/Madrid:20260423T180000
LAST-MODIFIED:20260417T080444Z
LOCATION:Museo de Belas Artes - A Coruña   - A Coruña
SUMMARY:A biblioteca do Museo de Belas Artes
URL;TYPE=URI:https://www.cultura.gal/gl/biblioteca-museo-belas-artes
END:VEVENT
END:VCALENDAR
