BEGIN:VCALENDAR
VERSION:2.0
PRODID:-//Date iCal//NONSGML kigkonsult.se iCalcreator 2.18//
METHOD:PUBLISH
X-WR-CALNAME;VALUE=TEXT:Cultura de Galicia
BEGIN:VTIMEZONE
TZID:Europe/Madrid
BEGIN:STANDARD
DTSTART:20261025T030000
TZOFFSETFROM:+0200
TZOFFSETTO:+0100
TZNAME:CET
END:STANDARD
BEGIN:DAYLIGHT
DTSTART:20260329T020000
TZOFFSETFROM:+0100
TZOFFSETTO:+0200
RDATE:20270328T020000
TZNAME:CEST
END:DAYLIGHT
END:VTIMEZONE
BEGIN:VEVENT
UID:calendar.125358.field_eve_fechahora.0@www.cultura.gal
DTSTAMP:20260425T211101Z
CREATED:20260417T074655Z
DESCRIPTION:Un ano máis\, o Museo de Belas Artes promove o ciclo de Música 
 de Cámara no Museo\, coa colaboración do Conservatorio Profesional de Músi
 ca da Coruña e a Asociación de Amigos do Museo.\n\n\nA entrada será libre 
 ata completar aforo do Salón de actos do Museo. O programa é o seguinte:\n
 \n\n11 de abril\n\n\nDúo violonchelo e piano: Esteban Barlow Zas (violonch
 elo) e Romeu Tembrás Sánchez (piano)\n	· LUDWIG VAN BEETHOVEN: Sonata para 
 violonchelo e piano N.º 3 en La mayor\, Op. 69 - Allegro ma non tanto\n\nC
 oncerto -  Clásica   \n \n https://www.cultura.gal/gl/evento/125358/7/1542
 29
DTSTART;TZID=Europe/Madrid:20260411T120000
DTEND;TZID=Europe/Madrid:20260425T120000
LAST-MODIFIED:20260417T074655Z
LOCATION:Museo de Belas Artes - A Coruña   - A Coruña
SUMMARY:IX Ciclo Música de cámara no museo
URL;TYPE=URI:https://www.cultura.gal/gl/ix-ciclo-musica-camara-museo
END:VEVENT
END:VCALENDAR
