BEGIN:VCALENDAR
VERSION:2.0
PRODID:-//Date iCal//NONSGML kigkonsult.se iCalcreator 2.18//
METHOD:PUBLISH
X-WR-CALNAME;VALUE=TEXT:Cultura de Galicia
BEGIN:VTIMEZONE
TZID:Europe/Madrid
BEGIN:STANDARD
DTSTART:20261025T030000
TZOFFSETFROM:+0200
TZOFFSETTO:+0100
TZNAME:CET
END:STANDARD
BEGIN:DAYLIGHT
DTSTART:20270328T020000
TZOFFSETFROM:+0100
TZOFFSETTO:+0200
TZNAME:CEST
END:DAYLIGHT
END:VTIMEZONE
BEGIN:VEVENT
UID:calendar.125356.field_eve_fechahora.0@www.cultura.gal
DTSTAMP:20260425T225125Z
CREATED:20260417T064550Z
DESCRIPTION:Odiseicas é un espectáculo de narración oral escénica inspirado
  na obra e no pensamento de Begoña Caamaño\, a autora á que se lle dedica 
 as Letras Galegas 2026\, ao través da narración de Soledad Felloza.\n\n\nA
  través de historias adaptadas segundo o público\, Morganas\, Circes\, Pen
 élopes e outras mulleres toman a palabra para contar a súa versión da hist
 oria.\n\nEspectáculo -  Contacontos/Narración oral   \n \n https://www.cul
 tura.gal/gl/evento/125356/13/154227
DTSTART;TZID=Europe/Madrid:20260520T110000
DTEND;TZID=Europe/Madrid:20260520T110000
LAST-MODIFIED:20260417T071013Z
LOCATION:Museo do Castro de Viladonga - Castro de Rei   - Lugo
SUMMARY:Odiseicas\, as que tecen a historia
URL;TYPE=URI:https://www.cultura.gal/gl/odiseicas-que-tecen-historia-0
END:VEVENT
END:VCALENDAR
