BEGIN:VCALENDAR
VERSION:2.0
PRODID:-//Date iCal//NONSGML kigkonsult.se iCalcreator 2.18//
METHOD:PUBLISH
X-WR-CALNAME;VALUE=TEXT:Cultura de Galicia
BEGIN:VTIMEZONE
TZID:Europe/Madrid
BEGIN:STANDARD
DTSTART:20261025T030000
TZOFFSETFROM:+0200
TZOFFSETTO:+0100
TZNAME:CET
END:STANDARD
BEGIN:DAYLIGHT
DTSTART:20260329T020000
TZOFFSETFROM:+0100
TZOFFSETTO:+0200
RDATE:20270328T020000
TZNAME:CEST
END:DAYLIGHT
END:VTIMEZONE
BEGIN:VEVENT
UID:calendar.125354.field_eve_fechahora.0@www.cultura.gal
DTSTAMP:20260419T172823Z
CREATED:20260417T062512Z
DESCRIPTION:As visitas guiadas á exposición «Escolma de Escultura» 2026 ató
 panse xa dispoñibles. As visitas estarán abertas entre o 14 de abril e o 5
  de setembro de 2026.\n\n\nAs visitas organizaranse en grupos de entre 5 e
  25 persoas e terán unha duración aproximada de 45 minutos.\n\n\nPara asis
 tir\, é imprescindible realizar reserva previa\, ben a través do teléfono 
 988788439 ou mediante o enderezo electrónico mapour@xunta.gal . Nestes mes
 mos medios de contacto tamén se poderá solicitar información adicional ou 
 resolver calquera dúbida sobre estas.\n\n\n  Visita guiada/Roteiro   \n \n
  https://www.cultura.gal/gl/evento/125354/69/154225
DTSTART;TZID=Europe/Madrid:20260414T110000
DTEND;TZID=Europe/Madrid:20260905T140000
LAST-MODIFIED:20260417T062512Z
LOCATION:Museo Arqueolóxico Provincial de Ourense - Ourense   - Ourense
SUMMARY:Visitas guiadas  a grupos
URL;TYPE=URI:https://www.cultura.gal/gl/visitas-guiadas-grupos
END:VEVENT
END:VCALENDAR
