BEGIN:VCALENDAR
VERSION:2.0
PRODID:-//Date iCal//NONSGML kigkonsult.se iCalcreator 2.18//
METHOD:PUBLISH
X-WR-CALNAME;VALUE=TEXT:Cultura de Galicia
BEGIN:VTIMEZONE
TZID:Europe/Madrid
BEGIN:STANDARD
DTSTART:20261025T030000
TZOFFSETFROM:+0200
TZOFFSETTO:+0100
TZNAME:CET
END:STANDARD
BEGIN:DAYLIGHT
DTSTART:20270328T020000
TZOFFSETFROM:+0100
TZOFFSETTO:+0200
TZNAME:CEST
END:DAYLIGHT
END:VTIMEZONE
BEGIN:VEVENT
UID:calendar.125326.field_eve_fechahora.0@www.cultura.gal
DTSTAMP:20260420T055457Z
CREATED:20260415T115514Z
DESCRIPTION:Mitos\, lendas e cantigas é un espectáculo de narración oral e 
 música en directo inspirado na obra de Begoña Caamaño\, que revisita a mit
 oloxía clásica desde unha perspectiva feminina. \n\n\nA través de romances
 \, cantigas e palabra contada\, recupera figuras como Circe\, Penélope ou 
 Morgana\, poñendo en valor o papel das mulleres no mito e na tradición ora
 l. \n\n\nUnha proposta para público familiar que combina\, patrimonio\, cr
 eación contemporánea e igualdade. \n\n\nDuración: 45 minutos\n\n\nPúblico 
 familiar a partir de 4 anos\n\n\nSalón de actos\n\n  Espectáculo   \n \n h
 ttps://www.cultura.gal/gl/evento/125326/13/154209
DTSTART;TZID=Europe/Madrid:20260515T180000
DTEND;TZID=Europe/Madrid:20260515T180000
LAST-MODIFIED:20260415T115514Z
LOCATION:Biblioteca Pública da Coruña Miguel González Garcés - A Coruña   -
  A Coruña
SUMMARY:Mitos\, lendas e cantigas. Homenaxe a Begoña Caamaño
URL;TYPE=URI:https://www.cultura.gal/gl/mitos-lendas-cantigas-homenaxe-bego
 na-caamano
END:VEVENT
END:VCALENDAR
