BEGIN:VCALENDAR
VERSION:2.0
PRODID:-//Date iCal//NONSGML kigkonsult.se iCalcreator 2.18//
METHOD:PUBLISH
X-WR-CALNAME;VALUE=TEXT:Cultura de Galicia
BEGIN:VTIMEZONE
TZID:Europe/Madrid
BEGIN:STANDARD
DTSTART:20261025T030000
TZOFFSETFROM:+0200
TZOFFSETTO:+0100
TZNAME:CET
END:STANDARD
BEGIN:DAYLIGHT
DTSTART:20270328T020000
TZOFFSETFROM:+0100
TZOFFSETTO:+0200
TZNAME:CEST
END:DAYLIGHT
END:VTIMEZONE
BEGIN:VEVENT
UID:calendar.125264.field_eve_fechahora.0@www.cultura.gal
DTSTAMP:20260420T055509Z
CREATED:20260409T133637Z
DESCRIPTION:Melisa\, unha pequena abelliña\, pérdese no bosque cando desapa
 rece o sol. Na súa viaxe\, recibe a axuda de distintos animais e\, grazas 
 á luz dunha vagalume\, consegue atopar o camiño de volta á súa colmea e re
 gresar ao fogar.\n\n\nDespois do conto\, realizaremos un obradoiro de chap
 as e as nenas e nenos poderán deseñar as súas propias creacións inspiradas
  na historia de Melisa.\n\n\nNo salón de actos. Dirixido a público familia
 r. A entrada é libre ata completar a capacidade da sala.\n\n\nEspectáculo 
 -  Contacontos/Narración oral   \n \n https://www.cultura.gal/gl/evento/12
 5264/13/154181
DTSTART;TZID=Europe/Madrid:20260509T120000
DTEND;TZID=Europe/Madrid:20260509T120000
LAST-MODIFIED:20260409T163440Z
LOCATION:Biblioteca Pública de Santiago Ánxel Casal - Santiago de Compostel
 a   - A Coruña
SUMMARY:Melisa perdeuse
URL;TYPE=URI:https://www.cultura.gal/gl/melisa-perdeuse
END:VEVENT
END:VCALENDAR
