BEGIN:VCALENDAR
VERSION:2.0
PRODID:-//Date iCal//NONSGML kigkonsult.se iCalcreator 2.18//
METHOD:PUBLISH
X-WR-CALNAME;VALUE=TEXT:Cultura de Galicia
BEGIN:VTIMEZONE
TZID:Europe/Madrid
BEGIN:STANDARD
DTSTART:20261025T030000
TZOFFSETFROM:+0200
TZOFFSETTO:+0100
TZNAME:CET
END:STANDARD
BEGIN:DAYLIGHT
DTSTART:20260329T020000
TZOFFSETFROM:+0100
TZOFFSETTO:+0200
RDATE:20270328T020000
TZNAME:CEST
END:DAYLIGHT
END:VTIMEZONE
BEGIN:VEVENT
UID:calendar.125205.field_eve_fechahora.0@www.cultura.gal
DTSTAMP:20260420T025101Z
CREATED:20260406T112600Z
DESCRIPTION:Un percorrido pola Ourense do cambio de século\, do XIX para o 
 XX\, a través do seu desenvolvemento urbanístico coa incorporación das nov
 as formas arquitectónicas. Desde as últimas obras asinadas por Queralt até
  a década de 1930. No percorrido descubriremos algunhas das referencias da
  arquitectura  modernista en Ourense\, con especial mención\, entre outros
 \, aos deseños de Daniel Vázquez-Gulías e Manuel Conde Fidalgo.\n\n  Visit
 a guiada/Roteiro   \n \n https://www.cultura.gal/gl/evento/125205/69/15413
 8
DTSTART;TZID=Europe/Madrid:20260423T163000
DTEND;TZID=Europe/Madrid:20260423T163000
LAST-MODIFIED:20260406T112600Z
LOCATION:Biblioteca Pública de Ourense - Ourense   - Ourense
SUMMARY:Redescubrindo Ourense: O Ourense modernista
URL;TYPE=URI:https://www.cultura.gal/gl/redescubrindo-ourense-ourense-moder
 nista-0
END:VEVENT
END:VCALENDAR
