BEGIN:VCALENDAR
VERSION:2.0
PRODID:-//Date iCal//NONSGML kigkonsult.se iCalcreator 2.18//
METHOD:PUBLISH
X-WR-CALNAME;VALUE=TEXT:Cultura de Galicia
BEGIN:VTIMEZONE
TZID:Europe/Madrid
BEGIN:STANDARD
DTSTART:20261025T030000
TZOFFSETFROM:+0200
TZOFFSETTO:+0100
TZNAME:CET
END:STANDARD
BEGIN:DAYLIGHT
DTSTART:20270328T020000
TZOFFSETFROM:+0100
TZOFFSETTO:+0200
TZNAME:CEST
END:DAYLIGHT
END:VTIMEZONE
BEGIN:VEVENT
UID:calendar.125111.field_eve_fechahora.0@www.cultura.gal
DTSTAMP:20260420T074429Z
CREATED:20260330T150419Z
DESCRIPTION:ESDLB Ao vivo propón unha experiencia que vai máis aló do forma
 to podcast\, combinando humor e reflexión nun encontro directo co público.
  Ricardo Moya sobe ao escenario acompañado de convidados sorpresa para abo
 rdar\, con honestidade e intelixencia\, temas que conectan coas emocións e
  a realidade contemporánea. Unha proposta que convida a rir\, pensar e des
 cubrir novas perspectivas a través de historias que inspiran e interpelan.
 \n\n\n  Outras actividades   \n \n https://www.cultura.gal/gl/evento/12511
 1/70/154094
DTSTART;TZID=Europe/Madrid:20260523T210000
DTEND;TZID=Europe/Madrid:20260523T210000
LAST-MODIFIED:20260330T150419Z
LOCATION:Rúa de Concepción Arenal\, 5 - Santiago de Compostela   - A Coruña
SUMMARY:El sentido de la birra
URL;TYPE=URI:https://www.cultura.gal/gl/sentido-birra
END:VEVENT
END:VCALENDAR
