BEGIN:VCALENDAR
VERSION:2.0
PRODID:-//Date iCal//NONSGML kigkonsult.se iCalcreator 2.18//
METHOD:PUBLISH
X-WR-CALNAME;VALUE=TEXT:Cultura de Galicia
BEGIN:VTIMEZONE
TZID:Europe/Madrid
BEGIN:STANDARD
DTSTART:20261025T030000
TZOFFSETFROM:+0200
TZOFFSETTO:+0100
TZNAME:CET
END:STANDARD
BEGIN:DAYLIGHT
DTSTART:20260329T020000
TZOFFSETFROM:+0100
TZOFFSETTO:+0200
RDATE:20270328T020000
TZNAME:CEST
END:DAYLIGHT
END:VTIMEZONE
BEGIN:VEVENT
UID:calendar.125091.field_eve_fechahora.0@www.cultura.gal
DTSTAMP:20260419T164442Z
CREATED:20260330T115451Z
DESCRIPTION:Manas conta a historia de Marcielle\, unha nena de 13 anos da I
 lla de Marajó\, que non logra ser escoitada nun mundo que silencia a viole
 ncia contra mulleres e nenas. Demasiado pronto\, esperta ás dores que atra
 vesan á súa familia desde hai xeracións. Cando Tielle decide tomar as rend
 as do seu propio destino\, cambia para sempre a maquinaria da realidade qu
 e lle foi imposta.\n\n\n  Proxección audiovisual   \n \n https://www.cultu
 ra.gal/gl/evento/125091/20/154080
DTSTART;TZID=Europe/Madrid:20260428T180000
DTEND;TZID=Europe/Madrid:20260428T180000
LAST-MODIFIED:20260330T115451Z
LOCATION:Filmoteca de Galicia - A Coruña   - A Coruña
SUMMARY:Manas
URL;TYPE=URI:https://www.cultura.gal/gl/manas
END:VEVENT
END:VCALENDAR
