BEGIN:VCALENDAR
VERSION:2.0
PRODID:-//Date iCal//NONSGML kigkonsult.se iCalcreator 2.18//
METHOD:PUBLISH
X-WR-CALNAME;VALUE=TEXT:Cultura de Galicia
BEGIN:VTIMEZONE
TZID:Europe/Madrid
BEGIN:STANDARD
DTSTART:20261025T030000
TZOFFSETFROM:+0200
TZOFFSETTO:+0100
TZNAME:CET
END:STANDARD
BEGIN:DAYLIGHT
DTSTART:20260329T020000
TZOFFSETFROM:+0100
TZOFFSETTO:+0200
RDATE:20270328T020000
TZNAME:CEST
END:DAYLIGHT
END:VTIMEZONE
BEGIN:VEVENT
UID:calendar.125089.field_eve_fechahora.0@www.cultura.gal
DTSTAMP:20260419T164452Z
CREATED:20260330T115233Z
DESCRIPTION:Sendo pouco máis cá unha nena\, Effi casa co barón Geert von In
 nstetten. Pero non é feliz. Innstetten é un home severo e de principios e 
 a ama de chaves desconfía dela\, así que se refuxia na compañía do barón v
 on Crampas\, antigo compañeiro de rexemento do seu home.\n\n\n  Proxección
  audiovisual   \n \n https://www.cultura.gal/gl/evento/125089/20/154076
DTSTART;TZID=Europe/Madrid:20260425T180000
DTEND;TZID=Europe/Madrid:20260425T180000
LAST-MODIFIED:20260330T115233Z
LOCATION:Filmoteca de Galicia - A Coruña   - A Coruña
SUMMARY:Effi Briest
URL;TYPE=URI:https://www.cultura.gal/gl/effi-briest
END:VEVENT
BEGIN:VEVENT
UID:calendar.125089.field_eve_fechahora.0@www.cultura.gal
DTSTAMP:20260419T164452Z
CREATED:20260330T115233Z
DESCRIPTION:Sendo pouco máis cá unha nena\, Effi casa co barón Geert von In
 nstetten. Pero non é feliz. Innstetten é un home severo e de principios e 
 a ama de chaves desconfía dela\, así que se refuxia na compañía do barón v
 on Crampas\, antigo compañeiro de rexemento do seu home.\n\n\n  Proxección
  audiovisual   \n \n https://www.cultura.gal/gl/evento/125089/20/154077
DTSTART;TZID=Europe/Madrid:20260428T203000
DTEND;TZID=Europe/Madrid:20260428T203000
LAST-MODIFIED:20260330T115233Z
LOCATION:Filmoteca de Galicia - A Coruña   - A Coruña
SUMMARY:Effi Briest
URL;TYPE=URI:https://www.cultura.gal/gl/effi-briest
END:VEVENT
END:VCALENDAR
