BEGIN:VCALENDAR
VERSION:2.0
PRODID:-//Date iCal//NONSGML kigkonsult.se iCalcreator 2.18//
METHOD:PUBLISH
X-WR-CALNAME;VALUE=TEXT:Cultura de Galicia
BEGIN:VTIMEZONE
TZID:Europe/Madrid
BEGIN:STANDARD
DTSTART:20261025T030000
TZOFFSETFROM:+0200
TZOFFSETTO:+0100
TZNAME:CET
END:STANDARD
BEGIN:DAYLIGHT
DTSTART:20270328T020000
TZOFFSETFROM:+0100
TZOFFSETTO:+0200
TZNAME:CEST
END:DAYLIGHT
END:VTIMEZONE
BEGIN:VEVENT
UID:calendar.125000.field_eve_fechahora.0@www.cultura.gal
DTSTAMP:20260423T021523Z
CREATED:20260326T134726Z
DESCRIPTION:O medo máis antigo da humanidade é o medo ao descoñecido. Din q
 ue Prometeo roubou o lume aos deuses\, e que desde entón arde en nós o des
 exo de crear. Mais toda creación leva consigo a sombra do erro. Como intuí
 a Aristóteles: o monstro é o que se afasta da esencia\, o que rompe a orde
  natural das cousas. Criaturas nace desa fenda\, desa chispa prometeica qu
 e nos empurra a inventar\, modificar\, mellorar… ata perder de vista o que
  nos fai humanos. \n+14 anos\n\n\nEspectáculo -  Teatro   \n \n https://ww
 w.cultura.gal/gl/evento/125000/13/153983
DTSTART;TZID=Europe/Madrid:20260523T203000
DTEND;TZID=Europe/Madrid:20260523T203000
LAST-MODIFIED:20260326T134726Z
LOCATION:Rúa de José Antonio Souto Paz - Santiago de Compostela   - A Coruñ
 a
SUMMARY:Criaturas
URL;TYPE=URI:https://www.cultura.gal/gl/criaturas-1
END:VEVENT
END:VCALENDAR
