BEGIN:VCALENDAR
VERSION:2.0
PRODID:-//Date iCal//NONSGML kigkonsult.se iCalcreator 2.18//
METHOD:PUBLISH
X-WR-CALNAME;VALUE=TEXT:Cultura de Galicia
BEGIN:VTIMEZONE
TZID:Europe/Madrid
BEGIN:STANDARD
DTSTART:20261025T030000
TZOFFSETFROM:+0200
TZOFFSETTO:+0100
TZNAME:CET
END:STANDARD
BEGIN:DAYLIGHT
DTSTART:20270328T020000
TZOFFSETFROM:+0100
TZOFFSETTO:+0200
TZNAME:CEST
END:DAYLIGHT
END:VTIMEZONE
BEGIN:VEVENT
UID:calendar.124291.field_eve_fechahora.0@www.cultura.gal
DTSTAMP:20260425T145820Z
CREATED:20260204T191743Z
DESCRIPTION:Babas é un caracol moi lambón. Os seus amigos dixéronlle que do
  outro lado do bosque está a planta máis saborosa e coas follas máis verde
 s de toda a fraga. Por iso\, un día decide ir coa súa amiga a Cogomelo Tro
 mpita a buscala. Babas anda moi amodo\, non chegan nunca! E aínda por riba
 \, Trompita dase conta que algo cambia ao seu redor\, as estacións do ano!
  \n\n\nAcompañas a Babas e a Trompita a descubrir todo sobre as estacións?
   \n\n\nA través de diferentes elementos sensoriais os máis cativos e cati
 vas da casa vivirán unha aventura emocionante. \n\n\nEspectáculo -  Teatro
    \n \n https://www.cultura.gal/gl/evento/124291/13/153362
DTSTART;TZID=Europe/Madrid:20260509T180000
DTEND;TZID=Europe/Madrid:20260509T180000
LAST-MODIFIED:20260204T191743Z
LOCATION:Auditorio Municipal Manuel María - Ourense   - Ourense
SUMMARY:Babas descubre as estacións 
URL;TYPE=URI:https://www.cultura.gal/gl/babas-descubre-estacions
END:VEVENT
END:VCALENDAR
