BEGIN:VCALENDAR
VERSION:2.0
PRODID:-//Date iCal//NONSGML kigkonsult.se iCalcreator 2.18//
METHOD:PUBLISH
X-WR-CALNAME;VALUE=TEXT:Cultura de Galicia
BEGIN:VTIMEZONE
TZID:Europe/Madrid
BEGIN:STANDARD
DTSTART:20261025T030000
TZOFFSETFROM:+0200
TZOFFSETTO:+0100
TZNAME:CET
END:STANDARD
BEGIN:DAYLIGHT
DTSTART:20270328T020000
TZOFFSETFROM:+0100
TZOFFSETTO:+0200
TZNAME:CEST
END:DAYLIGHT
END:VTIMEZONE
BEGIN:VEVENT
UID:calendar.124286.field_eve_fechahora.0@www.cultura.gal
DTSTAMP:20260421T040149Z
CREATED:20260204T184813Z
DESCRIPTION:Jack e Rose\, unha parella que rolda a trintena e que levan xun
 tos desde a adolescencia\, van a un concerto do seu grupo favorito\, Grand
 e Amore\, nunha praza céntrica á beira do seu piso. Logo dunha festa memor
 able que paraliza a cidade pola afluencia masiva de público\, os membros d
 o grupo non conseguen arrincar a súa furgoneta. Rose e Jack\, fans incondi
 cionais\, non o dubidan e deciden ofrecerlles a súa casa para pasar a noit
 e\, e durmir eles dúas no faiado. \n\nEspectáculo -  Teatro   \n \n https:
 //www.cultura.gal/gl/evento/124286/13/153357
DTSTART;TZID=Europe/Madrid:20260507T203000
DTEND;TZID=Europe/Madrid:20260507T203000
LAST-MODIFIED:20260204T184813Z
LOCATION:Auditorio Municipal Gustavo Freire - Lugo   - Lugo
SUMMARY:Cortello de Amor
URL;TYPE=URI:https://www.cultura.gal/gl/cortello-amor-0
END:VEVENT
END:VCALENDAR
