BEGIN:VCALENDAR
VERSION:2.0
PRODID:-//Date iCal//NONSGML kigkonsult.se iCalcreator 2.18//
METHOD:PUBLISH
X-WR-CALNAME;VALUE=TEXT:Cultura de Galicia
BEGIN:VTIMEZONE
TZID:Europe/Madrid
BEGIN:STANDARD
DTSTART:20261025T030000
TZOFFSETFROM:+0200
TZOFFSETTO:+0100
TZNAME:CET
END:STANDARD
BEGIN:DAYLIGHT
DTSTART:20270328T020000
TZOFFSETFROM:+0100
TZOFFSETTO:+0200
TZNAME:CEST
END:DAYLIGHT
END:VTIMEZONE
BEGIN:VEVENT
UID:calendar.124280.field_eve_fechahora.0@www.cultura.gal
DTSTAMP:20260419T223925Z
CREATED:20260204T182320Z
DESCRIPTION:Os Carunchos renden homenaxe ao poeta Manuel María musicando un
 ha selección dos seus poemas. Un traballo de celebración do 30 aniversario
  da formación cun repertorio dedicado integramente ao gran Poeta da Terra.
  Deste encontro prodixioso entre a música e a palabra xorde  UNHA GORXA CH
 EA DE PAXAROS\, un traballo inzado de versos\, cos que celebrar a longa vi
 da dunha das bandas fundamentais da música tradicional galega.\n\n  Concer
 to   \n \n https://www.cultura.gal/gl/evento/124280/7/153351
DTSTART;TZID=Europe/Madrid:20260510T190000
DTEND;TZID=Europe/Madrid:20260510T190000
LAST-MODIFIED:20260204T182320Z
LOCATION:Auditorio Lois Tobío - Gondomar   - Pontevedra
SUMMARY:Os Carunchos - Unha gorxa chea de paxaros
URL;TYPE=URI:https://www.cultura.gal/gl/carunchos-gorxa-chea-paxaros
END:VEVENT
END:VCALENDAR
