BEGIN:VCALENDAR
VERSION:2.0
PRODID:-//Date iCal//NONSGML kigkonsult.se iCalcreator 2.18//
METHOD:PUBLISH
X-WR-CALNAME;VALUE=TEXT:Cultura de Galicia
BEGIN:VTIMEZONE
TZID:Europe/Madrid
BEGIN:STANDARD
DTSTART:20261025T030000
TZOFFSETFROM:+0200
TZOFFSETTO:+0100
TZNAME:CET
END:STANDARD
BEGIN:DAYLIGHT
DTSTART:20260329T020000
TZOFFSETFROM:+0100
TZOFFSETTO:+0200
RDATE:20270328T020000
TZNAME:CEST
END:DAYLIGHT
END:VTIMEZONE
BEGIN:VEVENT
UID:calendar.124268.field_eve_fechahora.0@www.cultura.gal
DTSTAMP:20260419T164326Z
CREATED:20260204T165748Z
DESCRIPTION:EL VERBO achéganos a aquilo que arrastramos ata a intimidade\, 
 a todas esas pleitesías colectivas que nos constrúen e nos obrigan baixo a
  advertencia do castigo para comportarnos dunha maneira determinada e corr
 ecta. EL VERBO é un proceso para imaxinar e construír novos rituais\, eses
  que\, como ou mundo\, están en continua desaparición.\n\nEspectáculo -  D
 anza   \n \n https://www.cultura.gal/gl/evento/124268/13/153340
DTSTART;TZID=Europe/Madrid:20260430T210000
DTEND;TZID=Europe/Madrid:20260430T210000
LAST-MODIFIED:20260204T165836Z
LOCATION:Pazo da Cultura - Carballo   - A Coruña
SUMMARY:El verbo
URL;TYPE=URI:https://www.cultura.gal/gl/verbo
END:VEVENT
END:VCALENDAR
