BEGIN:VCALENDAR
VERSION:2.0
PRODID:-//Date iCal//NONSGML kigkonsult.se iCalcreator 2.18//
METHOD:PUBLISH
X-WR-CALNAME;VALUE=TEXT:Cultura de Galicia
BEGIN:VTIMEZONE
TZID:Europe/Madrid
BEGIN:STANDARD
DTSTART:20261025T030000
TZOFFSETFROM:+0200
TZOFFSETTO:+0100
TZNAME:CET
END:STANDARD
BEGIN:DAYLIGHT
DTSTART:20260329T020000
TZOFFSETFROM:+0100
TZOFFSETTO:+0200
RDATE:20270328T020000
TZNAME:CEST
END:DAYLIGHT
END:VTIMEZONE
BEGIN:VEVENT
UID:calendar.124236.field_eve_fechahora.0@www.cultura.gal
DTSTAMP:20260420T084508Z
CREATED:20260204T105127Z
DESCRIPTION:COA CABEZA NAS NUBES é un espectáculo multidisciplinar que comb
 ina teatro físico\, danza e clown para público familiar. En escena\, dous 
 personaxes conviven no mesmo espazo. Un deles\, afogado polo traballo\, te
 nta sobrevivir baixo unha morea de papeis. As tarefas non deixan de acumul
 arse... non dá feito con todo o que hai que facer!\n\n\nA súa compañeira\,
  en vez de botarlle unha man\, interrompe constantemente e só pensa en xog
 ar. Será posible que non atope tempo para xogar con ela? Un pouquiño? Un i
 nstante sequera?\n\nEspectáculo -  Danza   \n \n https://www.cultura.gal/g
 l/evento/124236/13/153299
DTSTART;TZID=Europe/Madrid:20260426T180000
DTEND;TZID=Europe/Madrid:20260426T180000
LAST-MODIFIED:20260204T105127Z
LOCATION:Auditorio Municipal  - Vigo   - Pontevedra
SUMMARY:Coa cabeza nas nubes
URL;TYPE=URI:https://www.cultura.gal/gl/cabeza-nubes-2
END:VEVENT
END:VCALENDAR
