BEGIN:VCALENDAR
VERSION:2.0
PRODID:-//Date iCal//NONSGML kigkonsult.se iCalcreator 2.18//
METHOD:PUBLISH
X-WR-CALNAME;VALUE=TEXT:Cultura de Galicia
BEGIN:VTIMEZONE
TZID:Europe/Madrid
BEGIN:STANDARD
DTSTART:20261025T030000
TZOFFSETFROM:+0200
TZOFFSETTO:+0100
TZNAME:CET
END:STANDARD
BEGIN:DAYLIGHT
DTSTART:20260329T020000
TZOFFSETFROM:+0100
TZOFFSETTO:+0200
RDATE:20270328T020000
TZNAME:CEST
END:DAYLIGHT
END:VTIMEZONE
BEGIN:VEVENT
UID:calendar.124194.field_eve_fechahora.0@www.cultura.gal
DTSTAMP:20260420T012540Z
CREATED:20260203T115820Z
DESCRIPTION:MONTE é un achegamento aos puntos en común que temos entre Gali
 cia e Cuba\, poñendo énfase\, por unha banda\, na danza\, o teatro e a mús
 ica\, e por outra\, na natureza. Unha ficción entre dous mundos\, entre dú
 as culturas. Todo isto desde a visión híbrida da muller migrante\, que ben
  puido vivir a emigración de ida e volta. Unha muller forte e sabia\, que 
 coñece todos os segredos do MONTE e vén do mar. Coñece todas as herbas\, t
 odas as lendas e as beberaxes\, e mantén unha forte conexión coa terra\, c
 os tambores\, coa voz e coa clave.\n\nEspectáculo -  Danza   \n \n https:/
 /www.cultura.gal/gl/evento/124194/13/153256
DTSTART;TZID=Europe/Madrid:20260424T203000
DTEND;TZID=Europe/Madrid:20260424T203000
LAST-MODIFIED:20260203T120937Z
LOCATION:Auditorio do Centro Cívico Cultural Manuel Murguía - Arteixo   - A
  Coruña
SUMMARY:Monte
URL;TYPE=URI:https://www.cultura.gal/gl/monte
END:VEVENT
END:VCALENDAR
