BEGIN:VCALENDAR
VERSION:2.0
PRODID:-//Date iCal//NONSGML kigkonsult.se iCalcreator 2.18//
METHOD:PUBLISH
X-WR-CALNAME;VALUE=TEXT:Cultura de Galicia
BEGIN:VTIMEZONE
TZID:Europe/Madrid
BEGIN:STANDARD
DTSTART:20261025T030000
TZOFFSETFROM:+0200
TZOFFSETTO:+0100
TZNAME:CET
END:STANDARD
BEGIN:DAYLIGHT
DTSTART:20260329T020000
TZOFFSETFROM:+0100
TZOFFSETTO:+0200
RDATE:20270328T020000
TZNAME:CEST
END:DAYLIGHT
END:VTIMEZONE
BEGIN:VEVENT
UID:calendar.125412.field_eve_fechahora.0@www.cultura.gal
DTSTAMP:20260422T103003Z
CREATED:20260422T072059Z
DESCRIPTION:La campaña 2026 de Toponimízate llegará a 12 nuevos ayuntamient
 os. La acción\, que ya va por su novena edición\, se enmarca en los proyec
 tos Toponimia de Galicia y GeoArpad\, impulsados ambos desde la Xunta de G
 alicia\, y se coordinará desde la Real Academia Galega (RAG) en colaboraci
 ón con la Secretaría Xeral da Lingua.\n\n  Jornada/Congreso   \n \n https:
 //www.cultura.gal/es/evento/125412/107/154273
DTSTART;TZID=Europe/Madrid:20260422T110000
DTEND;TZID=Europe/Madrid:20260422T110000
LAST-MODIFIED:20260422T072059Z
LOCATION:Multiúsos - Moraña   - Pontevedra
SUMMARY:Toponimízate 2026
URL;TYPE=URI:https://www.cultura.gal/es/toponimizate-2026
END:VEVENT
BEGIN:VEVENT
UID:calendar.125412.field_eve_fechahora.0@www.cultura.gal
DTSTAMP:20260422T103003Z
CREATED:20260422T072059Z
DESCRIPTION:La campaña 2026 de Toponimízate llegará a 12 nuevos ayuntamient
 os. La acción\, que ya va por su novena edición\, se enmarca en los proyec
 tos Toponimia de Galicia y GeoArpad\, impulsados ambos desde la Xunta de G
 alicia\, y se coordinará desde la Real Academia Galega (RAG) en colaboraci
 ón con la Secretaría Xeral da Lingua.\n\n  Jornada/Congreso   \n \n https:
 //www.cultura.gal/es/evento/125412/107/154274
DTSTART;TZID=Europe/Madrid:20260509T110000
DTEND;TZID=Europe/Madrid:20260509T110000
LAST-MODIFIED:20260422T072059Z
LOCATION:Escola do Campo de Combarro - Poio   - Pontevedra
SUMMARY:Toponimízate 2026
URL;TYPE=URI:https://www.cultura.gal/es/toponimizate-2026
END:VEVENT
BEGIN:VEVENT
UID:calendar.125412.field_eve_fechahora.0@www.cultura.gal
DTSTAMP:20260422T103003Z
CREATED:20260422T072059Z
DESCRIPTION:La campaña 2026 de Toponimízate llegará a 12 nuevos ayuntamient
 os. La acción\, que ya va por su novena edición\, se enmarca en los proyec
 tos Toponimia de Galicia y GeoArpad\, impulsados ambos desde la Xunta de G
 alicia\, y se coordinará desde la Real Academia Galega (RAG) en colaboraci
 ón con la Secretaría Xeral da Lingua.\n\n  Jornada/Congreso   \n \n https:
 //www.cultura.gal/es/evento/125412/107/154275
DTSTART;TZID=Europe/Madrid:20260515T190000
DTEND;TZID=Europe/Madrid:20260515T190000
LAST-MODIFIED:20260422T072059Z
LOCATION:Escolas Vellas - Xunqueira de Ambía   - Ourense
SUMMARY:Toponimízate 2026
URL;TYPE=URI:https://www.cultura.gal/es/toponimizate-2026
END:VEVENT
BEGIN:VEVENT
UID:calendar.125412.field_eve_fechahora.0@www.cultura.gal
DTSTAMP:20260422T103003Z
CREATED:20260422T072059Z
DESCRIPTION:La campaña 2026 de Toponimízate llegará a 12 nuevos ayuntamient
 os. La acción\, que ya va por su novena edición\, se enmarca en los proyec
 tos Toponimia de Galicia y GeoArpad\, impulsados ambos desde la Xunta de G
 alicia\, y se coordinará desde la Real Academia Galega (RAG) en colaboraci
 ón con la Secretaría Xeral da Lingua.\n\n  Jornada/Congreso   \n \n https:
 //www.cultura.gal/es/evento/125412/107/154276
DTSTART;TZID=Europe/Madrid:20260529T193000
DTEND;TZID=Europe/Madrid:20260529T193000
LAST-MODIFIED:20260422T072059Z
LOCATION:Casa da Cultura - Valdoviño   - A Coruña
SUMMARY:Toponimízate 2026
URL;TYPE=URI:https://www.cultura.gal/es/toponimizate-2026
END:VEVENT
BEGIN:VEVENT
UID:calendar.125412.field_eve_fechahora.0@www.cultura.gal
DTSTAMP:20260422T103003Z
CREATED:20260422T072059Z
DESCRIPTION:La campaña 2026 de Toponimízate llegará a 12 nuevos ayuntamient
 os. La acción\, que ya va por su novena edición\, se enmarca en los proyec
 tos Toponimia de Galicia y GeoArpad\, impulsados ambos desde la Xunta de G
 alicia\, y se coordinará desde la Real Academia Galega (RAG) en colaboraci
 ón con la Secretaría Xeral da Lingua.\n\n  Jornada/Congreso   \n \n https:
 //www.cultura.gal/es/evento/125412/107/154277
DTSTART;TZID=Europe/Madrid:20260605T193000
DTEND;TZID=Europe/Madrid:20260605T193000
LAST-MODIFIED:20260422T072059Z
LOCATION:Salón azul do Arquivo de Betanzos - Betanzos   - A Coruña
SUMMARY:Toponimízate 2026
URL;TYPE=URI:https://www.cultura.gal/es/toponimizate-2026
END:VEVENT
BEGIN:VEVENT
UID:calendar.125412.field_eve_fechahora.0@www.cultura.gal
DTSTAMP:20260422T103003Z
CREATED:20260422T072059Z
DESCRIPTION:La campaña 2026 de Toponimízate llegará a 12 nuevos ayuntamient
 os. La acción\, que ya va por su novena edición\, se enmarca en los proyec
 tos Toponimia de Galicia y GeoArpad\, impulsados ambos desde la Xunta de G
 alicia\, y se coordinará desde la Real Academia Galega (RAG) en colaboraci
 ón con la Secretaría Xeral da Lingua.\n\n  Jornada/Congreso   \n \n https:
 //www.cultura.gal/es/evento/125412/107/154278
DTSTART;TZID=Europe/Madrid:20260626T190000
DTEND;TZID=Europe/Madrid:20260626T190000
LAST-MODIFIED:20260422T072059Z
LOCATION:Centro Sociocultural do Cádavo - Baleira   - Lugo
SUMMARY:Toponimízate 2026
URL;TYPE=URI:https://www.cultura.gal/es/toponimizate-2026
END:VEVENT
BEGIN:VEVENT
UID:calendar.125412.field_eve_fechahora.0@www.cultura.gal
DTSTAMP:20260422T103003Z
CREATED:20260422T072059Z
DESCRIPTION:La campaña 2026 de Toponimízate llegará a 12 nuevos ayuntamient
 os. La acción\, que ya va por su novena edición\, se enmarca en los proyec
 tos Toponimia de Galicia y GeoArpad\, impulsados ambos desde la Xunta de G
 alicia\, y se coordinará desde la Real Academia Galega (RAG) en colaboraci
 ón con la Secretaría Xeral da Lingua.\n\n  Jornada/Congreso   \n \n https:
 //www.cultura.gal/es/evento/125412/107/154279
DTSTART;TZID=Europe/Madrid:20260828T190000
DTEND;TZID=Europe/Madrid:20260828T190000
LAST-MODIFIED:20260422T072059Z
LOCATION:Casa da Cultura - Quiroga   - Lugo
SUMMARY:Toponimízate 2026
URL;TYPE=URI:https://www.cultura.gal/es/toponimizate-2026
END:VEVENT
BEGIN:VEVENT
UID:calendar.125412.field_eve_fechahora.0@www.cultura.gal
DTSTAMP:20260422T103003Z
CREATED:20260422T072059Z
DESCRIPTION:La campaña 2026 de Toponimízate llegará a 12 nuevos ayuntamient
 os. La acción\, que ya va por su novena edición\, se enmarca en los proyec
 tos Toponimia de Galicia y GeoArpad\, impulsados ambos desde la Xunta de G
 alicia\, y se coordinará desde la Real Academia Galega (RAG) en colaboraci
 ón con la Secretaría Xeral da Lingua.\n\n  Jornada/Congreso   \n \n https:
 //www.cultura.gal/es/evento/125412/107/154280
DTSTART;TZID=Europe/Madrid:20260904T193000
DTEND;TZID=Europe/Madrid:20260904T193000
LAST-MODIFIED:20260422T072059Z
LOCATION:Centro Sociocultural Manuel Oreste - Paradela   - Lugo
SUMMARY:Toponimízate 2026
URL;TYPE=URI:https://www.cultura.gal/es/toponimizate-2026
END:VEVENT
BEGIN:VEVENT
UID:calendar.125412.field_eve_fechahora.0@www.cultura.gal
DTSTAMP:20260422T103003Z
CREATED:20260422T072059Z
DESCRIPTION:La campaña 2026 de Toponimízate llegará a 12 nuevos ayuntamient
 os. La acción\, que ya va por su novena edición\, se enmarca en los proyec
 tos Toponimia de Galicia y GeoArpad\, impulsados ambos desde la Xunta de G
 alicia\, y se coordinará desde la Real Academia Galega (RAG) en colaboraci
 ón con la Secretaría Xeral da Lingua.\n\n  Jornada/Congreso   \n \n https:
 //www.cultura.gal/es/evento/125412/107/154281
DTSTART;TZID=Europe/Madrid:20260911T193000
DTEND;TZID=Europe/Madrid:20260911T193000
LAST-MODIFIED:20260422T072059Z
LOCATION:Centro de Maiores Os Gozos - O Pereiro de Aguiar   - Ourense
SUMMARY:Toponimízate 2026
URL;TYPE=URI:https://www.cultura.gal/es/toponimizate-2026
END:VEVENT
BEGIN:VEVENT
UID:calendar.125412.field_eve_fechahora.0@www.cultura.gal
DTSTAMP:20260422T103003Z
CREATED:20260422T072059Z
DESCRIPTION:La campaña 2026 de Toponimízate llegará a 12 nuevos ayuntamient
 os. La acción\, que ya va por su novena edición\, se enmarca en los proyec
 tos Toponimia de Galicia y GeoArpad\, impulsados ambos desde la Xunta de G
 alicia\, y se coordinará desde la Real Academia Galega (RAG) en colaboraci
 ón con la Secretaría Xeral da Lingua.\n\n  Jornada/Congreso   \n \n https:
 //www.cultura.gal/es/evento/125412/107/154282
DTSTART;TZID=Europe/Madrid:20260825T190000
DTEND;TZID=Europe/Madrid:20260825T190000
LAST-MODIFIED:20260422T072059Z
LOCATION:Sala Coworking - Antiga Casa Cuartel - O Bolo   - Ourense
SUMMARY:Toponimízate 2026
URL;TYPE=URI:https://www.cultura.gal/es/toponimizate-2026
END:VEVENT
BEGIN:VEVENT
UID:calendar.125412.field_eve_fechahora.0@www.cultura.gal
DTSTAMP:20260422T103003Z
CREATED:20260422T072059Z
DESCRIPTION:La campaña 2026 de Toponimízate llegará a 12 nuevos ayuntamient
 os. La acción\, que ya va por su novena edición\, se enmarca en los proyec
 tos Toponimia de Galicia y GeoArpad\, impulsados ambos desde la Xunta de G
 alicia\, y se coordinará desde la Real Academia Galega (RAG) en colaboraci
 ón con la Secretaría Xeral da Lingua.\n\n  Jornada/Congreso   \n \n https:
 //www.cultura.gal/es/evento/125412/107/154283
DTSTART;TZID=Europe/Madrid:20261002T200000
DTEND;TZID=Europe/Madrid:20261002T200000
LAST-MODIFIED:20260422T072059Z
LOCATION:Mercado das Neves - As Neves   - Pontevedra
SUMMARY:Toponimízate 2026
URL;TYPE=URI:https://www.cultura.gal/es/toponimizate-2026
END:VEVENT
BEGIN:VEVENT
UID:calendar.125412.field_eve_fechahora.0@www.cultura.gal
DTSTAMP:20260422T103003Z
CREATED:20260422T072059Z
DESCRIPTION:La campaña 2026 de Toponimízate llegará a 12 nuevos ayuntamient
 os. La acción\, que ya va por su novena edición\, se enmarca en los proyec
 tos Toponimia de Galicia y GeoArpad\, impulsados ambos desde la Xunta de G
 alicia\, y se coordinará desde la Real Academia Galega (RAG) en colaboraci
 ón con la Secretaría Xeral da Lingua.\n\n  Jornada/Congreso   \n \n https:
 //www.cultura.gal/es/evento/125412/107/154284
DTSTART;TZID=Europe/Madrid:20261009T110000
DTEND;TZID=Europe/Madrid:20261009T110000
LAST-MODIFIED:20260422T072059Z
LOCATION:Casa da Cultura - Boimorto   - A Coruña
SUMMARY:Toponimízate 2026
URL;TYPE=URI:https://www.cultura.gal/es/toponimizate-2026
END:VEVENT
END:VCALENDAR
