BEGIN:VCALENDAR
VERSION:2.0
PRODID:-//Date iCal//NONSGML kigkonsult.se iCalcreator 2.18//
METHOD:PUBLISH
X-WR-CALNAME;VALUE=TEXT:Cultura de Galicia
BEGIN:VTIMEZONE
TZID:Europe/Madrid
BEGIN:STANDARD
DTSTART:20261025T030000
TZOFFSETFROM:+0200
TZOFFSETTO:+0100
TZNAME:CET
END:STANDARD
BEGIN:DAYLIGHT
DTSTART:20270328T020000
TZOFFSETFROM:+0100
TZOFFSETTO:+0200
TZNAME:CEST
END:DAYLIGHT
END:VTIMEZONE
BEGIN:VEVENT
UID:calendar.125370.field_eve_fechahora.0@www.cultura.gal
DTSTAMP:20260424T183809Z
CREATED:20260417T130137Z
DESCRIPTION:Cata y charla formativa donde se explicará que es la miel\, ele
 mentos para extraerla. Diferencias entre los individuos que habitan las co
 lmenas y como son los panales donde las abejas la guardan con celo. Distin
 guir las distintas partes de la colmena.\n\n\nLa figura del apicultor/a y 
 del envasador/a\, así como a las herramientas precisas con las que trabaja
 . Todo el ciclo de vida del Oro Dulce\, desde las flores hasta el bote de 
 Miel de Galicia. \n\n\n¿Tienes vista\, tienes olfato\, tienes gusto?\n\nEx
 posición -  Divulgación   \n \n https://www.cultura.gal/es/evento/125370/1
 61/154238
DTSTART;TZID=Europe/Madrid:20260522T180000
DTEND;TZID=Europe/Madrid:20260522T180000
LAST-MODIFIED:20260417T130137Z
LOCATION:Biblioteca Pública de Lugo - Lugo   - Lugo
SUMMARY:Cata de meles. Un modo de vida: mel de Galicia\, disfrútao
URL;TYPE=URI:https://www.cultura.gal/es/cata-meles-modo-vida-mel-galicia-di
 sfrutao
END:VEVENT
END:VCALENDAR
