BEGIN:VCALENDAR
VERSION:2.0
PRODID:-//Date iCal//NONSGML kigkonsult.se iCalcreator 2.18//
METHOD:PUBLISH
X-WR-CALNAME;VALUE=TEXT:Cultura de Galicia
BEGIN:VTIMEZONE
TZID:Europe/Madrid
BEGIN:STANDARD
DTSTART:20261025T030000
TZOFFSETFROM:+0200
TZOFFSETTO:+0100
TZNAME:CET
END:STANDARD
BEGIN:DAYLIGHT
DTSTART:20270328T020000
TZOFFSETFROM:+0100
TZOFFSETTO:+0200
TZNAME:CEST
END:DAYLIGHT
END:VTIMEZONE
BEGIN:VEVENT
UID:calendar.125347.field_eve_fechahora.0@www.cultura.gal
DTSTAMP:20260425T120150Z
CREATED:20260416T092221Z
DESCRIPTION:La biblioteca acoge dos sesiones del Gran Xogo sobre as Letras 
 Galegas a cargo de Eduvía. Este juego\, además de divertido\, sirve para q
 ue las pequeñas y pequeños participantes aprendan algunos datos importante
 s sobre Begoña Caamano\, homenajeada en el Día das Letras Galegas 2026 y s
 obre otras curiosidades relacionadas con esta fecha.\n\n\nEn la sala infan
 til. Actividad dirigida al alumnado de un centro educativo de Santiago de 
 Compostela. Acceso restringido.\n\n\n \n\n\n  Otras actividades   \n \n ht
 tps://www.cultura.gal/es/evento/125347/109/154224
DTSTART;TZID=Europe/Madrid:20260511T100000
DTEND;TZID=Europe/Madrid:20260511T100000
LAST-MODIFIED:20260416T092221Z
LOCATION:Biblioteca Pública de Santiago Ánxel Casal - Santiago de Compostel
 a   - A Coruña
SUMMARY:Gran Xogo sobre as Letras Galegas
URL;TYPE=URI:https://www.cultura.gal/es/gran-xogo-sobre-letras-galegas-4
END:VEVENT
END:VCALENDAR
