BEGIN:VCALENDAR
VERSION:2.0
PRODID:-//Date iCal//NONSGML kigkonsult.se iCalcreator 2.18//
METHOD:PUBLISH
X-WR-CALNAME;VALUE=TEXT:Cultura de Galicia
BEGIN:VTIMEZONE
TZID:Europe/Madrid
BEGIN:STANDARD
DTSTART:20261025T030000
TZOFFSETFROM:+0200
TZOFFSETTO:+0100
TZNAME:CET
END:STANDARD
BEGIN:DAYLIGHT
DTSTART:20270328T020000
TZOFFSETFROM:+0100
TZOFFSETTO:+0200
TZNAME:CEST
END:DAYLIGHT
END:VTIMEZONE
BEGIN:VEVENT
UID:calendar.125339.field_eve_fechahora.0@www.cultura.gal
DTSTAMP:20260419T164031Z
CREATED:20260416T060912Z
DESCRIPTION:Un año más\, el Museo del Castro de Viladonga acoge un taller d
 e cerámica castrexa. Un taller dirigido al público adulto con ganas de apr
 ender a hacer cerámica al uso de los habitantes de los castros\, con la té
 cnica del rolo. Se hace todo el proceso de elaboración\, por lo que tras e
 l aprendizaje\, el diseño y la elaboración del 2 de mayo  (en dos turnos)\
 , se hará también la cocción en horno abierto el 30 de mayo.\n\n\nEn la in
 scripción tendrán preferencia las personas que no se hubiesen apuntado en 
 ediciones anteriores. Esta inscripción es telefónica\, en el 982 870 160.
 \n\n  Taller   \n \n https://www.cultura.gal/es/evento/125339/104/154219
DTSTART;TZID=Europe/Madrid:20260502T110000
DTEND;TZID=Europe/Madrid:20260502T110000
LAST-MODIFIED:20260416T060912Z
LOCATION:Museo do Castro de Viladonga - Castro de Rei   - Lugo
SUMMARY:Obradoiro de cerámica castrexa
URL;TYPE=URI:https://www.cultura.gal/es/obradoiro-ceramica-castrexa-0
END:VEVENT
END:VCALENDAR
