BEGIN:VCALENDAR
VERSION:2.0
PRODID:-//Date iCal//NONSGML kigkonsult.se iCalcreator 2.18//
METHOD:PUBLISH
X-WR-CALNAME;VALUE=TEXT:Cultura de Galicia
BEGIN:VTIMEZONE
TZID:Europe/Madrid
BEGIN:STANDARD
DTSTART:20261025T030000
TZOFFSETFROM:+0200
TZOFFSETTO:+0100
TZNAME:CET
END:STANDARD
BEGIN:DAYLIGHT
DTSTART:20270328T020000
TZOFFSETFROM:+0100
TZOFFSETTO:+0200
TZNAME:CEST
END:DAYLIGHT
END:VTIMEZONE
BEGIN:VEVENT
UID:calendar.125333.field_eve_fechahora.0@www.cultura.gal
DTSTAMP:20260422T165103Z
CREATED:20260415T184214Z
DESCRIPTION:No taller exploramos el arte de crear con papel. A través de té
 cnicas de las luminarias\, descubrimos juntos como este material sencillo 
 se convierte en una ponte hacia la imaginación.\n\n\nEs una invitación par
 a aprender y divertirnos\, experimentando con las manos y las ideas. El pa
 pel se transforma en esceario\, en personajes\, en historias que viajan y 
 se comparten con la luz.\n\n  Taller   \n \n https://www.cultura.gal/es/ev
 ento/125333/104/154214
DTSTART;TZID=Europe/Madrid:20260529T180000
DTEND;TZID=Europe/Madrid:20260529T180000
LAST-MODIFIED:20260415T184214Z
LOCATION:Biblioteca Pública de Pontevedra Antonio Odriozola - Pontevedra   
 - Pontevedra
SUMMARY:Luminarias
URL;TYPE=URI:https://www.cultura.gal/es/luminarias
END:VEVENT
END:VCALENDAR
