BEGIN:VCALENDAR
VERSION:2.0
PRODID:-//Date iCal//NONSGML kigkonsult.se iCalcreator 2.18//
METHOD:PUBLISH
X-WR-CALNAME;VALUE=TEXT:Cultura de Galicia
BEGIN:VTIMEZONE
TZID:Europe/Madrid
BEGIN:STANDARD
DTSTART:20261025T030000
TZOFFSETFROM:+0200
TZOFFSETTO:+0100
TZNAME:CET
END:STANDARD
BEGIN:DAYLIGHT
DTSTART:20270328T020000
TZOFFSETFROM:+0100
TZOFFSETTO:+0200
TZNAME:CEST
END:DAYLIGHT
END:VTIMEZONE
BEGIN:VEVENT
UID:calendar.125331.field_eve_fechahora.0@www.cultura.gal
DTSTAMP:20260421T202049Z
CREATED:20260415T183258Z
DESCRIPTION:Una madre decide preparar un cocido gallego para ella y para su
 s hijas\, al modo de antes\, como hacían las abuelas. Pero faltan ingredie
 ntes y\, cuando las niñas tienen que ir a buscarlos a la huerta\, encuentr
 an en el camino a la cabra Montesina\, que marcará el rumbo de la aventura
 .\n\n\nPúblico destinatario: familiar\, a partir de 3 años\n\n\nFecha y ho
 ra: viernes 22 de mayo a las 18.00 h.\n\n\nSin inscripción previa\, hasta 
 completar la capacidad de la sala.\n\n\nEspectáculo -  Cuentacuentos/Narra
 ción oral   \n \n https://www.cultura.gal/es/evento/125331/158/154212
DTSTART;TZID=Europe/Madrid:20260522T180000
DTEND;TZID=Europe/Madrid:20260522T180000
LAST-MODIFIED:20260415T183258Z
LOCATION:Biblioteca Pública de Pontevedra Antonio Odriozola - Pontevedra   
 - Pontevedra
SUMMARY:A cabra Montesina
URL;TYPE=URI:https://www.cultura.gal/es/cabra-montesina
END:VEVENT
END:VCALENDAR
