BEGIN:VCALENDAR
VERSION:2.0
PRODID:-//Date iCal//NONSGML kigkonsult.se iCalcreator 2.18//
METHOD:PUBLISH
X-WR-CALNAME;VALUE=TEXT:Cultura de Galicia
BEGIN:VTIMEZONE
TZID:Europe/Madrid
BEGIN:STANDARD
DTSTART:20261025T030000
TZOFFSETFROM:+0200
TZOFFSETTO:+0100
TZNAME:CET
END:STANDARD
BEGIN:DAYLIGHT
DTSTART:20260329T020000
TZOFFSETFROM:+0100
TZOFFSETTO:+0200
RDATE:20270328T020000
TZNAME:CEST
END:DAYLIGHT
END:VTIMEZONE
BEGIN:VEVENT
UID:calendar.125196.field_eve_fechahora.0@www.cultura.gal
DTSTAMP:20260424T045359Z
CREATED:20260406T090308Z
DESCRIPTION:El Cómic Barcelona\, antiguo Salón del cómic de Barcelona\, se 
 celebra en mayo. Desde la biblioteca hemos querido destacar las obras nomi
 nadas este año\, así como otras merecedoras del galardón en anteriores edi
 ciones.\n\n\n  Otras actividades   \n \n https://www.cultura.gal/es/evento
 /125196/109/154125
DTSTART;TZID=Europe/Madrid:20260406T130000
DTEND;TZID=Europe/Madrid:20260506T150000
LAST-MODIFIED:20260406T090308Z
LOCATION:Biblioteca Pública de Ourense - Ourense   - Ourense
SUMMARY:Obras ganadoras y nominadas al Cómic Barcelona
URL;TYPE=URI:https://www.cultura.gal/es/obras-ganadoras-nominadas-al-comic-
 barcelona
END:VEVENT
END:VCALENDAR
