BEGIN:VCALENDAR
VERSION:2.0
PRODID:-//Date iCal//NONSGML kigkonsult.se iCalcreator 2.18//
METHOD:PUBLISH
X-WR-CALNAME;VALUE=TEXT:Cultura de Galicia
BEGIN:VTIMEZONE
TZID:Europe/Madrid
BEGIN:STANDARD
DTSTART:20261025T030000
TZOFFSETFROM:+0200
TZOFFSETTO:+0100
TZNAME:CET
END:STANDARD
BEGIN:DAYLIGHT
DTSTART:20260329T020000
TZOFFSETFROM:+0100
TZOFFSETTO:+0200
RDATE:20270328T020000
TZNAME:CEST
END:DAYLIGHT
END:VTIMEZONE
BEGIN:VEVENT
UID:calendar.125142.field_eve_fechahora.0@www.cultura.gal
DTSTAMP:20260420T025906Z
CREATED:20260331T153758Z
DESCRIPTION:El coro se fundó en 1991\; el personal sanitario constituía el 
 grupo inicial y su propósito era llevar alegría a los pacientes hospitaliz
 ados y cultivar la música polifónica. \n\n\nCuenta con una amplia experien
 cia actuando en diversas salas y un repertorio que abarca una amplia gama 
 de música polifónica.\n\n\nEdad recomendada: Adultos\n\n\nHora: 19:00 h.\n
 \n\nSalón de actos (hasta completar aforo)\n\n\n  Concierto   \n \n https:
 //www.cultura.gal/es/evento/125142/97/154117
DTSTART;TZID=Europe/Madrid:20260423T190000
DTEND;TZID=Europe/Madrid:20260423T190000
LAST-MODIFIED:20260406T094509Z
LOCATION:Biblioteca Pública de Lugo - Lugo   - Lugo
SUMMARY:Concerto Coro do Hospital de Lugo (HULA)
URL;TYPE=URI:https://www.cultura.gal/es/concerto-coro-hospital-lugo-hula
END:VEVENT
END:VCALENDAR
