BEGIN:VCALENDAR
VERSION:2.0
PRODID:-//Date iCal//NONSGML kigkonsult.se iCalcreator 2.18//
METHOD:PUBLISH
X-WR-CALNAME;VALUE=TEXT:Cultura de Galicia
BEGIN:VTIMEZONE
TZID:Europe/Madrid
BEGIN:STANDARD
DTSTART:20261025T030000
TZOFFSETFROM:+0200
TZOFFSETTO:+0100
TZNAME:CET
END:STANDARD
BEGIN:DAYLIGHT
DTSTART:20270328T020000
TZOFFSETFROM:+0100
TZOFFSETTO:+0200
TZNAME:CEST
END:DAYLIGHT
END:VTIMEZONE
BEGIN:VEVENT
UID:calendar.124922.field_eve_fechahora.0@www.cultura.gal
DTSTAMP:20260419T191057Z
CREATED:20260324T100358Z
DESCRIPTION:Una experiencia sensorial y emocional\, inspirada en los princi
 pios de la pedagogía Montessori.\n\n\nA través de historias sencillas\, be
 lamente narradas\, las niñas y niños explorarán emociones\, sonidos\, text
 uras y elementos del entorno natural que los rodea. \n\n\nUna propuesta co
 nectada con la realidad cercana\, que fomenta la imaginación y promueve un
  desarrollo natural y una mayor comprensión del mundo que nos rodea. \n\n
 \nPúblico infantil de 0 a 3 años con persona adulta acompañante\n\n\nLugar
 : Bebeteca\n\n\nDuración: 30 minutos\n\n\n15 plazas\n\nEspectáculo -  Cuen
 tacuentos/Narración oral   \n \n https://www.cultura.gal/es/evento/124922/
 158/153907
DTSTART;TZID=Europe/Madrid:20260605T180000
DTEND;TZID=Europe/Madrid:20260605T180000
LAST-MODIFIED:20260324T100358Z
LOCATION:Biblioteca Pública da Coruña Miguel González Garcés - A Coruña   -
  A Coruña
SUMMARY:Aventuras do bosque
URL;TYPE=URI:https://www.cultura.gal/es/aventuras-bosque
END:VEVENT
END:VCALENDAR
