BEGIN:VCALENDAR
VERSION:2.0
PRODID:-//Date iCal//NONSGML kigkonsult.se iCalcreator 2.18//
METHOD:PUBLISH
X-WR-CALNAME;VALUE=TEXT:Cultura de Galicia
BEGIN:VTIMEZONE
TZID:Europe/Madrid
BEGIN:STANDARD
DTSTART:20261025T030000
TZOFFSETFROM:+0200
TZOFFSETTO:+0100
TZNAME:CET
END:STANDARD
BEGIN:DAYLIGHT
DTSTART:20270328T020000
TZOFFSETFROM:+0100
TZOFFSETTO:+0200
TZNAME:CEST
END:DAYLIGHT
END:VTIMEZONE
BEGIN:VEVENT
UID:calendar.124301.field_eve_fechahora.0@www.cultura.gal
DTSTAMP:20260421T095112Z
CREATED:20260204T203012Z
DESCRIPTION:La protagonista\, Xela\, una niña de 9 años\, tiene que liberar
  a sus compañeros de escuela atrapados por el malvado Demo Luciferino que\
 , valiéndose del Dragón Dracus traga-palabras\, los tiene escondidos en la
  cueva del duende. Allí permanecerán hasta que olviden el gallego\, su len
 gua madre\, y se conviertan en sus secuaces. Para liberarse Xela y sus com
 pañeros de escuela\, tienen que enfrentarse a Luciferino y convencer Dracu
 s Cus Cus del terrible mal que esta causando.\n\nEspectáculo -  Marionetas
    \n \n https://www.cultura.gal/es/evento/124301/158/153378
DTSTART;TZID=Europe/Madrid:20260516T180000
DTEND;TZID=Europe/Madrid:20260516T180000
LAST-MODIFIED:20260204T203012Z
LOCATION:Salón Teatro - Lalín   - Pontevedra
SUMMARY:Xela e o dragón traga-verbas
URL;TYPE=URI:https://www.cultura.gal/es/xela-dragon-traga-verbas-0
END:VEVENT
END:VCALENDAR
