BEGIN:VCALENDAR
VERSION:2.0
PRODID:-//Date iCal//NONSGML kigkonsult.se iCalcreator 2.18//
METHOD:PUBLISH
X-WR-CALNAME;VALUE=TEXT:Cultura de Galicia
BEGIN:VTIMEZONE
TZID:Europe/Madrid
BEGIN:STANDARD
DTSTART:20261025T030000
TZOFFSETFROM:+0200
TZOFFSETTO:+0100
TZNAME:CET
END:STANDARD
BEGIN:DAYLIGHT
DTSTART:20270328T020000
TZOFFSETFROM:+0100
TZOFFSETTO:+0200
TZNAME:CEST
END:DAYLIGHT
END:VTIMEZONE
BEGIN:VEVENT
UID:calendar.124260.field_eve_fechahora.0@www.cultura.gal
DTSTAMP:20260421T075343Z
CREATED:20260204T160910Z
DESCRIPTION:O AUTOESTOPISTA INTERGALÁCTICO es un show de ciencia-ficción do
 nde el artista Aitor Garuz emplea el clown y el transformismo\, continuos 
 cambios de vestuario y de personajes cómicos\, que dan como resultado esce
 nas divertidas y absurdas.\n	Un agujero espacio-temporal entre varias dimen
 siones es el pretexto argumental que da pie al arranque del show y que ser
 virá de motor para la aparición de cada personaje.\n\n\n \n\n\n \n\n\nEspe
 ctáculo -  Nuevo circo   \n \n https://www.cultura.gal/es/evento/124260/15
 8/153332
DTSTART;TZID=Europe/Madrid:20260606T164500
DTEND;TZID=Europe/Madrid:20260606T164500
LAST-MODIFIED:20260330T111452Z
LOCATION:Centro Cultural Avenida - A Rúa   - Ourense
SUMMARY:O autoestopista intergaláctico
URL;TYPE=URI:https://www.cultura.gal/es/autoestopista-intergalactico-1
END:VEVENT
END:VCALENDAR
