BEGIN:VCALENDAR
VERSION:2.0
PRODID:-//Date iCal//NONSGML kigkonsult.se iCalcreator 2.18//
METHOD:PUBLISH
X-WR-CALNAME;VALUE=TEXT:Cultura de Galicia
BEGIN:VTIMEZONE
TZID:Europe/Madrid
BEGIN:STANDARD
DTSTART:20261025T030000
TZOFFSETFROM:+0200
TZOFFSETTO:+0100
TZNAME:CET
END:STANDARD
BEGIN:DAYLIGHT
DTSTART:20260329T020000
TZOFFSETFROM:+0100
TZOFFSETTO:+0200
RDATE:20270328T020000
TZNAME:CEST
END:DAYLIGHT
END:VTIMEZONE
BEGIN:VEVENT
UID:calendar.124258.field_eve_fechahora.0@www.cultura.gal
DTSTAMP:20260419T120107Z
CREATED:20260204T151128Z
DESCRIPTION:En O MUNDO MÁXICO DE PINOCHO\, el público se encontrará con una
  curiosa adaptación al teatro musical del clásico de Carlo Collodi. Una hi
 storia contada a través de los ojos de Pepiño Grilo\, que junto con el had
 a Mimadriña\, Raposo y Gato acompañará a Pinocho en el camino de convertir
 se en un niño de verdad. Un camino que comienza en el taller de Gepetto\, 
 y que pasará por la escuela\, por un circo de títeres donde un malvado tit
 iritero intentará raptarlo y hasta por la barriga de un pez gigante. Todo 
 para que el protagonista aprenda que decir mentiras tiene sus consecuencia
 s.\n\n\n \n\nEspectáculo -  Teatro   \n \n https://www.cultura.gal/es/even
 to/124258/158/153330
DTSTART;TZID=Europe/Madrid:20260425T183000
DTEND;TZID=Europe/Madrid:20260425T183000
LAST-MODIFIED:20260204T151128Z
LOCATION:Casa da cultura Pintor Lloréns - Sada   - A Coruña
SUMMARY:O mundo máxico de Pinocho
URL;TYPE=URI:https://www.cultura.gal/es/mundo-maxico-pinocho-0
END:VEVENT
END:VCALENDAR
