BEGIN:VCALENDAR
VERSION:2.0
PRODID:-//Date iCal//NONSGML kigkonsult.se iCalcreator 2.18//
METHOD:PUBLISH
X-WR-CALNAME;VALUE=TEXT:Cultura de Galicia
BEGIN:VTIMEZONE
TZID:Europe/Madrid
BEGIN:STANDARD
DTSTART:20261025T030000
TZOFFSETFROM:+0200
TZOFFSETTO:+0100
TZNAME:CET
END:STANDARD
BEGIN:DAYLIGHT
DTSTART:20270328T020000
TZOFFSETFROM:+0100
TZOFFSETTO:+0200
TZNAME:CEST
END:DAYLIGHT
END:VTIMEZONE
BEGIN:VEVENT
UID:calendar.124052.field_eve_fechahora.0@www.cultura.gal
DTSTAMP:20260423T152553Z
CREATED:20260131T075734Z
DESCRIPTION:SOBRIA E SERENA se vienen a reír de sí mismas y a contar su pun
 to de vista sobre el mundo entre risas. Porque el humor es terapéutico y p
 orque\, entre broma y broma\, la verdad siempre asoma. Porque no hay nada 
 más sano que la risa\, porque cuatro ojos ven más que dos\, y porque lo bu
 eno\, si doble\, dos veces bueno.\n\n\n \n\n\nEspectáculo -  Teatro   \n 
 \n https://www.cultura.gal/es/evento/124052/158/153073
DTSTART;TZID=Europe/Madrid:20260510T190000
DTEND;TZID=Europe/Madrid:20260510T190000
LAST-MODIFIED:20260131T075734Z
LOCATION:Auditorio Reveriano Soutullo - Ponteareas   - Pontevedra
SUMMARY:Sobria e Serena: o chou
URL;TYPE=URI:https://www.cultura.gal/es/sobria-serena-chou-0
END:VEVENT
END:VCALENDAR
